BEGIN:VCALENDAR
VERSION:2.0
PRODID:-//Bethel Hispana - ECPv6.15.20//NONSGML v1.0//EN
CALSCALE:GREGORIAN
METHOD:PUBLISH
X-WR-CALNAME:Bethel Hispana
X-ORIGINAL-URL:https://bethelhispana.ca
X-WR-CALDESC:Eventos para Bethel Hispana
REFRESH-INTERVAL;VALUE=DURATION:PT1H
X-Robots-Tag:noindex
X-PUBLISHED-TTL:PT1H
BEGIN:VTIMEZONE
TZID:America/Toronto
BEGIN:DAYLIGHT
TZOFFSETFROM:-0500
TZOFFSETTO:-0400
TZNAME:EDT
DTSTART:20250309T070000
END:DAYLIGHT
BEGIN:STANDARD
TZOFFSETFROM:-0400
TZOFFSETTO:-0500
TZNAME:EST
DTSTART:20251102T060000
END:STANDARD
BEGIN:DAYLIGHT
TZOFFSETFROM:-0500
TZOFFSETTO:-0400
TZNAME:EDT
DTSTART:20260308T070000
END:DAYLIGHT
BEGIN:STANDARD
TZOFFSETFROM:-0400
TZOFFSETTO:-0500
TZNAME:EST
DTSTART:20261101T060000
END:STANDARD
BEGIN:DAYLIGHT
TZOFFSETFROM:-0500
TZOFFSETTO:-0400
TZNAME:EDT
DTSTART:20270314T070000
END:DAYLIGHT
BEGIN:STANDARD
TZOFFSETFROM:-0400
TZOFFSETTO:-0500
TZNAME:EST
DTSTART:20271107T060000
END:STANDARD
END:VTIMEZONE
BEGIN:VEVENT
DTSTART;TZID=America/Toronto:20260422T193000
DTEND;TZID=America/Toronto:20260422T203000
DTSTAMP:20260419T211903
CREATED:20260306T141600Z
LAST-MODIFIED:20260306T141600Z
UID:896-1776886200-1776889800@bethelhispana.ca
SUMMARY:Servicio de Oración via ZOOM
DESCRIPTION:Servicio de Oración via ZOOM
URL:https://bethelhispana.ca/event/servicio-de-oracion-via-zoom-8/
LOCATION:Bethel Hispana\, 3657 Ponytrail Dr\, Mississauga\, Ontario\, L4X 1W5\, Canada
CATEGORIES:Church
ORGANIZER;CN="Bethel Hispana":MAILTO:contacto@bethelhispana.ca
END:VEVENT
BEGIN:VEVENT
DTSTART;TZID=America/Toronto:20260424T193000
DTEND;TZID=America/Toronto:20260424T210000
DTSTAMP:20260419T211903
CREATED:20260306T135036Z
LAST-MODIFIED:20260306T135036Z
UID:785-1777059000-1777064400@bethelhispana.ca
SUMMARY:Estudio Bíblico
DESCRIPTION:
URL:https://bethelhispana.ca/event/estudio-biblico-2/
LOCATION:Ontario
CATEGORIES:Church
END:VEVENT
BEGIN:VEVENT
DTSTART;TZID=America/Toronto:20260424T193000
DTEND;TZID=America/Toronto:20260424T210000
DTSTAMP:20260419T211903
CREATED:20260306T141600Z
LAST-MODIFIED:20260306T141600Z
UID:897-1777059000-1777064400@bethelhispana.ca
SUMMARY:Estudio BÃ­blico
DESCRIPTION:Estudio Bíblico para toda la congregación
URL:https://bethelhispana.ca/event/estudio-bablico-2/
LOCATION:Bethel Hispana\, 3657 Ponytrail Dr\, Mississauga\, Ontario\, L4X 1W5\, Canada
CATEGORIES:Church
ORGANIZER;CN="Bethel Hispana":MAILTO:contacto@bethelhispana.ca
END:VEVENT
BEGIN:VEVENT
DTSTART;TZID=America/Toronto:20260426T110000
DTEND;TZID=America/Toronto:20260426T130000
DTSTAMP:20260419T211903
CREATED:20260306T135036Z
LAST-MODIFIED:20260306T141600Z
UID:786-1777201200-1777208400@bethelhispana.ca
SUMMARY:Servicio Dominical
DESCRIPTION:Servicio de adoración\, toda la congregación es bienvenida. Escuela Dominical para niños.
URL:https://bethelhispana.ca/event/servicio-dominical-9/
LOCATION:Bethel Hispana\, 3657 Ponytrail Dr\, Mississauga\, Ontario\, L4X 1W5\, Canada
CATEGORIES:Church
ORGANIZER;CN="Bethel Hispana":MAILTO:contacto@bethelhispana.ca
END:VEVENT
BEGIN:VEVENT
DTSTART;TZID=America/Toronto:20260429T193000
DTEND;TZID=America/Toronto:20260429T203000
DTSTAMP:20260419T211903
CREATED:20260306T141615Z
LAST-MODIFIED:20260306T141615Z
UID:899-1777491000-1777494600@bethelhispana.ca
SUMMARY:Servicio de Oración via ZOOM
DESCRIPTION:Servicio de Oración via ZOOM
URL:https://bethelhispana.ca/event/servicio-de-oracion-via-zoom-9/
LOCATION:Bethel Hispana\, 3657 Ponytrail Dr\, Mississauga\, Ontario\, L4X 1W5\, Canada
CATEGORIES:Church
ORGANIZER;CN="Bethel Hispana":MAILTO:contacto@bethelhispana.ca
END:VEVENT
BEGIN:VEVENT
DTSTART;TZID=America/Toronto:20260501T193000
DTEND;TZID=America/Toronto:20260501T210000
DTSTAMP:20260419T211903
CREATED:20260306T135036Z
LAST-MODIFIED:20260306T141615Z
UID:787-1777663800-1777669200@bethelhispana.ca
SUMMARY:Servicio de Mujeres
DESCRIPTION:Servicio congregacional dirigido por las mujeres\, toda la congregación es bienvenida.
URL:https://bethelhispana.ca/event/servicio-de-mujeres-3/
LOCATION:Bethel Hispana\, 3657 Ponytrail Dr\, Mississauga\, Ontario\, L4X 1W5\, Canada
CATEGORIES:Church
ORGANIZER;CN="Bethel Hispana":MAILTO:contacto@bethelhispana.ca
END:VEVENT
BEGIN:VEVENT
DTSTART;TZID=America/Toronto:20260502T100000
DTEND;TZID=America/Toronto:20260502T113000
DTSTAMP:20260419T211903
CREATED:20260306T142653Z
LAST-MODIFIED:20260306T142653Z
UID:1034-1777716000-1777721400@bethelhispana.ca
SUMMARY:Ayuno y Oración Congregacional
DESCRIPTION:Servicio de Ayuno y Oración\, toda la congregación es bienvenida.
URL:https://bethelhispana.ca/event/ayuno-y-oracion-congregacional-3/
LOCATION:Bethel Hispana\, 3657 Ponytrail Dr\, Mississauga\, Ontario\, L4X 1W5\, Canada
CATEGORIES:Church
ORGANIZER;CN="Bethel Hispana":MAILTO:contacto@bethelhispana.ca
END:VEVENT
BEGIN:VEVENT
DTSTART;TZID=America/Toronto:20260503T110000
DTEND;TZID=America/Toronto:20260503T130000
DTSTAMP:20260419T211903
CREATED:20260306T135036Z
LAST-MODIFIED:20260306T141615Z
UID:788-1777806000-1777813200@bethelhispana.ca
SUMMARY:Servicio Dominical
DESCRIPTION:Servicio de adoración\, toda la congregación es bienvenida. Escuela Dominical para niños.
URL:https://bethelhispana.ca/event/servicio-dominical-10/
LOCATION:Bethel Hispana\, 3657 Ponytrail Dr\, Mississauga\, Ontario\, L4X 1W5\, Canada
CATEGORIES:Church
ORGANIZER;CN="Bethel Hispana":MAILTO:contacto@bethelhispana.ca
END:VEVENT
BEGIN:VEVENT
DTSTART;TZID=America/Toronto:20260506T193000
DTEND;TZID=America/Toronto:20260506T203000
DTSTAMP:20260419T211903
CREATED:20260306T141615Z
LAST-MODIFIED:20260306T141615Z
UID:902-1778095800-1778099400@bethelhispana.ca
SUMMARY:Servicio de Oración via ZOOM
DESCRIPTION:Servicio de Oración via ZOOM
URL:https://bethelhispana.ca/event/servicio-de-oracion-via-zoom-10/
LOCATION:Bethel Hispana\, 3657 Ponytrail Dr\, Mississauga\, Ontario\, L4X 1W5\, Canada
CATEGORIES:Church
ORGANIZER;CN="Bethel Hispana":MAILTO:contacto@bethelhispana.ca
END:VEVENT
BEGIN:VEVENT
DTSTART;TZID=America/Toronto:20260508T193000
DTEND;TZID=America/Toronto:20260508T210000
DTSTAMP:20260419T211903
CREATED:20260306T135036Z
LAST-MODIFIED:20260306T141615Z
UID:789-1778268600-1778274000@bethelhispana.ca
SUMMARY:Servicio de Misiones
DESCRIPTION:Servicio congregacional dirigido por el ministerio de misiones\, toda la congregación es bienvenida.
URL:https://bethelhispana.ca/event/servicio-de-misiones-3/
LOCATION:Bethel Hispana\, 3657 Ponytrail Dr\, Mississauga\, Ontario\, L4X 1W5\, Canada
CATEGORIES:Church
ORGANIZER;CN="Bethel Hispana":MAILTO:contacto@bethelhispana.ca
END:VEVENT
BEGIN:VEVENT
DTSTART;TZID=America/Toronto:20260510T110000
DTEND;TZID=America/Toronto:20260510T130000
DTSTAMP:20260419T211903
CREATED:20260306T135051Z
LAST-MODIFIED:20260306T141658Z
UID:790-1778410800-1778418000@bethelhispana.ca
SUMMARY:Servicio Dominical
DESCRIPTION:Servicio de adoración\, toda la congregación es bienvenida. Escuela Dominical para niños.
URL:https://bethelhispana.ca/event/servicio-dominical-11/
LOCATION:Bethel Hispana\, 3657 Ponytrail Dr\, Mississauga\, Ontario\, L4X 1W5\, Canada
CATEGORIES:Church
ORGANIZER;CN="Bethel Hispana":MAILTO:contacto@bethelhispana.ca
END:VEVENT
BEGIN:VEVENT
DTSTART;TZID=America/Toronto:20260513T193000
DTEND;TZID=America/Toronto:20260513T203000
DTSTAMP:20260419T211903
CREATED:20260306T141658Z
LAST-MODIFIED:20260306T141658Z
UID:905-1778700600-1778704200@bethelhispana.ca
SUMMARY:Servicio de Oración via ZOOM
DESCRIPTION:Servicio de Oración via ZOOM
URL:https://bethelhispana.ca/event/servicio-de-oracion-via-zoom-11/
LOCATION:Bethel Hispana\, 3657 Ponytrail Dr\, Mississauga\, Ontario\, L4X 1W5\, Canada
CATEGORIES:Church
ORGANIZER;CN="Bethel Hispana":MAILTO:contacto@bethelhispana.ca
END:VEVENT
BEGIN:VEVENT
DTSTART;TZID=America/Toronto:20260515T193000
DTEND;TZID=America/Toronto:20260515T210000
DTSTAMP:20260419T211903
CREATED:20260306T135051Z
LAST-MODIFIED:20260306T141658Z
UID:791-1778873400-1778878800@bethelhispana.ca
SUMMARY:Servicio de Caballeros
DESCRIPTION:Servicio congregacional dirigido por los caballeros\, toda la congregación es bienvenida.
URL:https://bethelhispana.ca/event/servicio-de-caballeros-3/
LOCATION:Bethel Hispana\, 3657 Ponytrail Dr\, Mississauga\, Ontario\, L4X 1W5\, Canada
CATEGORIES:Church
ORGANIZER;CN="Bethel Hispana":MAILTO:contacto@bethelhispana.ca
END:VEVENT
BEGIN:VEVENT
DTSTART;TZID=America/Toronto:20260517T110000
DTEND;TZID=America/Toronto:20260517T130000
DTSTAMP:20260419T211903
CREATED:20260306T135051Z
LAST-MODIFIED:20260306T141658Z
UID:792-1779015600-1779022800@bethelhispana.ca
SUMMARY:Servicio Dominical
DESCRIPTION:Servicio de adoración\, toda la congregación es bienvenida. Escuela Dominical para niños.
URL:https://bethelhispana.ca/event/servicio-dominical-12/
LOCATION:Bethel Hispana\, 3657 Ponytrail Dr\, Mississauga\, Ontario\, L4X 1W5\, Canada
CATEGORIES:Church
ORGANIZER;CN="Bethel Hispana":MAILTO:contacto@bethelhispana.ca
END:VEVENT
BEGIN:VEVENT
DTSTART;TZID=America/Toronto:20260520T193000
DTEND;TZID=America/Toronto:20260520T203000
DTSTAMP:20260419T211903
CREATED:20260306T141658Z
LAST-MODIFIED:20260306T141658Z
UID:908-1779305400-1779309000@bethelhispana.ca
SUMMARY:Servicio de Oración via ZOOM
DESCRIPTION:Servicio de Oración via ZOOM
URL:https://bethelhispana.ca/event/servicio-de-oracion-via-zoom-12/
LOCATION:Bethel Hispana\, 3657 Ponytrail Dr\, Mississauga\, Ontario\, L4X 1W5\, Canada
CATEGORIES:Church
ORGANIZER;CN="Bethel Hispana":MAILTO:contacto@bethelhispana.ca
END:VEVENT
BEGIN:VEVENT
DTSTART;TZID=America/Toronto:20260522T193000
DTEND;TZID=America/Toronto:20260522T210000
DTSTAMP:20260419T211903
CREATED:20260306T135051Z
LAST-MODIFIED:20260306T135051Z
UID:793-1779478200-1779483600@bethelhispana.ca
SUMMARY:Estudio Bíblico
DESCRIPTION:
URL:https://bethelhispana.ca/event/estudio-biblico-3/
LOCATION:Ontario
CATEGORIES:Church
END:VEVENT
BEGIN:VEVENT
DTSTART;TZID=America/Toronto:20260522T193000
DTEND;TZID=America/Toronto:20260522T210000
DTSTAMP:20260419T211903
CREATED:20260306T141712Z
LAST-MODIFIED:20260306T141713Z
UID:909-1779478200-1779483600@bethelhispana.ca
SUMMARY:Estudio BÃ­blico
DESCRIPTION:Estudio Bíblico para toda la congregación
URL:https://bethelhispana.ca/event/estudio-bablico-3/
LOCATION:Bethel Hispana\, 3657 Ponytrail Dr\, Mississauga\, Ontario\, L4X 1W5\, Canada
CATEGORIES:Church
ORGANIZER;CN="Bethel Hispana":MAILTO:contacto@bethelhispana.ca
END:VEVENT
BEGIN:VEVENT
DTSTART;TZID=America/Toronto:20260524T110000
DTEND;TZID=America/Toronto:20260524T130000
DTSTAMP:20260419T211903
CREATED:20260306T135051Z
LAST-MODIFIED:20260306T141713Z
UID:794-1779620400-1779627600@bethelhispana.ca
SUMMARY:Servicio Dominical
DESCRIPTION:Servicio de adoración\, toda la congregación es bienvenida. Escuela Dominical para niños.
URL:https://bethelhispana.ca/event/servicio-dominical-13/
LOCATION:Bethel Hispana\, 3657 Ponytrail Dr\, Mississauga\, Ontario\, L4X 1W5\, Canada
CATEGORIES:Church
ORGANIZER;CN="Bethel Hispana":MAILTO:contacto@bethelhispana.ca
END:VEVENT
BEGIN:VEVENT
DTSTART;TZID=America/Toronto:20260527T193000
DTEND;TZID=America/Toronto:20260527T203000
DTSTAMP:20260419T211903
CREATED:20260306T141712Z
LAST-MODIFIED:20260306T141713Z
UID:911-1779910200-1779913800@bethelhispana.ca
SUMMARY:Servicio de Oración via ZOOM
DESCRIPTION:Servicio de Oración via ZOOM
URL:https://bethelhispana.ca/event/servicio-de-oracion-via-zoom-13/
LOCATION:Bethel Hispana\, 3657 Ponytrail Dr\, Mississauga\, Ontario\, L4X 1W5\, Canada
CATEGORIES:Church
ORGANIZER;CN="Bethel Hispana":MAILTO:contacto@bethelhispana.ca
END:VEVENT
BEGIN:VEVENT
DTSTART;TZID=America/Toronto:20260531T110000
DTEND;TZID=America/Toronto:20260531T130000
DTSTAMP:20260419T211903
CREATED:20260306T135119Z
LAST-MODIFIED:20260306T141713Z
UID:795-1780225200-1780232400@bethelhispana.ca
SUMMARY:Servicio Dominical
DESCRIPTION:Servicio de adoración\, toda la congregación es bienvenida. Escuela Dominical para niños.
URL:https://bethelhispana.ca/event/servicio-dominical-14/
LOCATION:Bethel Hispana\, 3657 Ponytrail Dr\, Mississauga\, Ontario\, L4X 1W5\, Canada
CATEGORIES:Church
ORGANIZER;CN="Bethel Hispana":MAILTO:contacto@bethelhispana.ca
END:VEVENT
BEGIN:VEVENT
DTSTART;TZID=America/Toronto:20260603T193000
DTEND;TZID=America/Toronto:20260603T203000
DTSTAMP:20260419T211903
CREATED:20260306T141713Z
LAST-MODIFIED:20260306T141713Z
UID:913-1780515000-1780518600@bethelhispana.ca
SUMMARY:Servicio de Oración via ZOOM
DESCRIPTION:Servicio de Oración via ZOOM
URL:https://bethelhispana.ca/event/servicio-de-oracion-via-zoom-14/
LOCATION:Bethel Hispana\, 3657 Ponytrail Dr\, Mississauga\, Ontario\, L4X 1W5\, Canada
CATEGORIES:Church
ORGANIZER;CN="Bethel Hispana":MAILTO:contacto@bethelhispana.ca
END:VEVENT
BEGIN:VEVENT
DTSTART;TZID=America/Toronto:20260605T193000
DTEND;TZID=America/Toronto:20260605T210000
DTSTAMP:20260419T211903
CREATED:20260306T135119Z
LAST-MODIFIED:20260306T141728Z
UID:796-1780687800-1780693200@bethelhispana.ca
SUMMARY:Servicio de Mujeres
DESCRIPTION:Servicio congregacional dirigido por las mujeres\, toda la congregación es bienvenida.
URL:https://bethelhispana.ca/event/servicio-de-mujeres-4/
LOCATION:Bethel Hispana\, 3657 Ponytrail Dr\, Mississauga\, Ontario\, L4X 1W5\, Canada
CATEGORIES:Church
ORGANIZER;CN="Bethel Hispana":MAILTO:contacto@bethelhispana.ca
END:VEVENT
BEGIN:VEVENT
DTSTART;TZID=America/Toronto:20260606T100000
DTEND;TZID=America/Toronto:20260606T113000
DTSTAMP:20260419T211903
CREATED:20260306T142758Z
LAST-MODIFIED:20260306T142758Z
UID:1036-1780740000-1780745400@bethelhispana.ca
SUMMARY:Ayuno y Oración Congregacional
DESCRIPTION:Servicio de Ayuno y Oración\, toda la congregación es bienvenida.
URL:https://bethelhispana.ca/event/ayuno-y-oracion-congregacional-4/
LOCATION:Bethel Hispana\, 3657 Ponytrail Dr\, Mississauga\, Ontario\, L4X 1W5\, Canada
CATEGORIES:Church
ORGANIZER;CN="Bethel Hispana":MAILTO:contacto@bethelhispana.ca
END:VEVENT
BEGIN:VEVENT
DTSTART;TZID=America/Toronto:20260607T110000
DTEND;TZID=America/Toronto:20260607T130000
DTSTAMP:20260419T211903
CREATED:20260306T135119Z
LAST-MODIFIED:20260306T141728Z
UID:797-1780830000-1780837200@bethelhispana.ca
SUMMARY:Servicio Dominical
DESCRIPTION:Servicio de adoración\, toda la congregación es bienvenida. Escuela Dominical para niños.
URL:https://bethelhispana.ca/event/servicio-dominical-15/
LOCATION:Bethel Hispana\, 3657 Ponytrail Dr\, Mississauga\, Ontario\, L4X 1W5\, Canada
CATEGORIES:Church
ORGANIZER;CN="Bethel Hispana":MAILTO:contacto@bethelhispana.ca
END:VEVENT
BEGIN:VEVENT
DTSTART;TZID=America/Toronto:20260610T193000
DTEND;TZID=America/Toronto:20260610T203000
DTSTAMP:20260419T211903
CREATED:20260306T141728Z
LAST-MODIFIED:20260306T141728Z
UID:919-1781119800-1781123400@bethelhispana.ca
SUMMARY:Servicio de Oración via ZOOM
DESCRIPTION:Servicio de Oración via ZOOM
URL:https://bethelhispana.ca/event/servicio-de-oracion-via-zoom-15/
LOCATION:Bethel Hispana\, 3657 Ponytrail Dr\, Mississauga\, Ontario\, L4X 1W5\, Canada
CATEGORIES:Church
ORGANIZER;CN="Bethel Hispana":MAILTO:contacto@bethelhispana.ca
END:VEVENT
BEGIN:VEVENT
DTSTART;TZID=America/Toronto:20260612T193000
DTEND;TZID=America/Toronto:20260612T210000
DTSTAMP:20260419T211903
CREATED:20260306T135120Z
LAST-MODIFIED:20260306T141728Z
UID:798-1781292600-1781298000@bethelhispana.ca
SUMMARY:Servicio de Misiones
DESCRIPTION:Servicio congregacional dirigido por el ministerio de misiones\, toda la congregación es bienvenida.
URL:https://bethelhispana.ca/event/servicio-de-misiones-4/
LOCATION:Bethel Hispana\, 3657 Ponytrail Dr\, Mississauga\, Ontario\, L4X 1W5\, Canada
CATEGORIES:Church
ORGANIZER;CN="Bethel Hispana":MAILTO:contacto@bethelhispana.ca
END:VEVENT
BEGIN:VEVENT
DTSTART;TZID=America/Toronto:20260614T110000
DTEND;TZID=America/Toronto:20260614T130000
DTSTAMP:20260419T211903
CREATED:20260306T135120Z
LAST-MODIFIED:20260306T141728Z
UID:799-1781434800-1781442000@bethelhispana.ca
SUMMARY:Servicio Dominical
DESCRIPTION:Servicio de adoración\, toda la congregación es bienvenida. Escuela Dominical para niños.
URL:https://bethelhispana.ca/event/servicio-dominical-16/
LOCATION:Bethel Hispana\, 3657 Ponytrail Dr\, Mississauga\, Ontario\, L4X 1W5\, Canada
CATEGORIES:Church
ORGANIZER;CN="Bethel Hispana":MAILTO:contacto@bethelhispana.ca
END:VEVENT
BEGIN:VEVENT
DTSTART;TZID=America/Toronto:20260617T193000
DTEND;TZID=America/Toronto:20260617T203000
DTSTAMP:20260419T211903
CREATED:20260306T141744Z
LAST-MODIFIED:20260306T141744Z
UID:922-1781724600-1781728200@bethelhispana.ca
SUMMARY:Servicio de Oración via ZOOM
DESCRIPTION:Servicio de Oración via ZOOM
URL:https://bethelhispana.ca/event/servicio-de-oracion-via-zoom-16/
LOCATION:Bethel Hispana\, 3657 Ponytrail Dr\, Mississauga\, Ontario\, L4X 1W5\, Canada
CATEGORIES:Church
ORGANIZER;CN="Bethel Hispana":MAILTO:contacto@bethelhispana.ca
END:VEVENT
BEGIN:VEVENT
DTSTART;TZID=America/Toronto:20260619T193000
DTEND;TZID=America/Toronto:20260619T210000
DTSTAMP:20260419T211903
CREATED:20260306T135134Z
LAST-MODIFIED:20260306T141744Z
UID:800-1781897400-1781902800@bethelhispana.ca
SUMMARY:Servicio de Caballeros
DESCRIPTION:Servicio congregacional dirigido por los caballeros\, toda la congregación es bienvenida.
URL:https://bethelhispana.ca/event/servicio-de-caballeros-4/
LOCATION:Bethel Hispana\, 3657 Ponytrail Dr\, Mississauga\, Ontario\, L4X 1W5\, Canada
CATEGORIES:Church
ORGANIZER;CN="Bethel Hispana":MAILTO:contacto@bethelhispana.ca
END:VEVENT
BEGIN:VEVENT
DTSTART;TZID=America/Toronto:20260621T110000
DTEND;TZID=America/Toronto:20260621T130000
DTSTAMP:20260419T211903
CREATED:20260306T135134Z
LAST-MODIFIED:20260306T141744Z
UID:801-1782039600-1782046800@bethelhispana.ca
SUMMARY:Servicio Dominical
DESCRIPTION:Servicio de adoración\, toda la congregación es bienvenida. Escuela Dominical para niños.
URL:https://bethelhispana.ca/event/servicio-dominical-17/
LOCATION:Bethel Hispana\, 3657 Ponytrail Dr\, Mississauga\, Ontario\, L4X 1W5\, Canada
CATEGORIES:Church
ORGANIZER;CN="Bethel Hispana":MAILTO:contacto@bethelhispana.ca
END:VEVENT
END:VCALENDAR