BEGIN:VCALENDAR
VERSION:2.0
PRODID:-//Bethel Hispana - ECPv6.15.20//NONSGML v1.0//EN
CALSCALE:GREGORIAN
METHOD:PUBLISH
X-ORIGINAL-URL:https://bethelhispana.ca
X-WR-CALDESC:Eventos para Bethel Hispana
REFRESH-INTERVAL;VALUE=DURATION:PT1H
X-Robots-Tag:noindex
X-PUBLISHED-TTL:PT1H
BEGIN:VTIMEZONE
TZID:America/Toronto
BEGIN:DAYLIGHT
TZOFFSETFROM:-0500
TZOFFSETTO:-0400
TZNAME:EDT
DTSTART:20250309T070000
END:DAYLIGHT
BEGIN:STANDARD
TZOFFSETFROM:-0400
TZOFFSETTO:-0500
TZNAME:EST
DTSTART:20251102T060000
END:STANDARD
BEGIN:DAYLIGHT
TZOFFSETFROM:-0500
TZOFFSETTO:-0400
TZNAME:EDT
DTSTART:20260308T070000
END:DAYLIGHT
BEGIN:STANDARD
TZOFFSETFROM:-0400
TZOFFSETTO:-0500
TZNAME:EST
DTSTART:20261101T060000
END:STANDARD
BEGIN:DAYLIGHT
TZOFFSETFROM:-0500
TZOFFSETTO:-0400
TZNAME:EDT
DTSTART:20270314T070000
END:DAYLIGHT
BEGIN:STANDARD
TZOFFSETFROM:-0400
TZOFFSETTO:-0500
TZNAME:EST
DTSTART:20271107T060000
END:STANDARD
END:VTIMEZONE
BEGIN:VEVENT
DTSTART;TZID=America/Toronto:20260812T193000
DTEND;TZID=America/Toronto:20260812T203000
DTSTAMP:20260421T185327
CREATED:20260306T141829Z
LAST-MODIFIED:20260306T141829Z
UID:945-1786563000-1786566600@bethelhispana.ca
SUMMARY:Servicio de Oración via ZOOM
DESCRIPTION:Servicio de Oración via ZOOM
URL:https://bethelhispana.ca/event/servicio-de-oracion-via-zoom-24/
LOCATION:Bethel Hispana\, 3657 Ponytrail Dr\, Mississauga\, Ontario\, L4X 1W5\, Canada
CATEGORIES:Church
ORGANIZER;CN="Bethel Hispana":MAILTO:contacto@bethelhispana.ca
END:VEVENT
BEGIN:VEVENT
DTSTART;TZID=America/Toronto:20260814T193000
DTEND;TZID=America/Toronto:20260814T210000
DTSTAMP:20260421T185327
CREATED:20260306T135334Z
LAST-MODIFIED:20260306T141829Z
UID:815-1786735800-1786741200@bethelhispana.ca
SUMMARY:Servicio de Misiones
DESCRIPTION:Servicio congregacional dirigido por el ministerio de misiones\, toda la congregación es bienvenida.
URL:https://bethelhispana.ca/event/servicio-de-misiones-6/
LOCATION:Bethel Hispana\, 3657 Ponytrail Dr\, Mississauga\, Ontario\, L4X 1W5\, Canada
CATEGORIES:Church
ORGANIZER;CN="Bethel Hispana":MAILTO:contacto@bethelhispana.ca
END:VEVENT
BEGIN:VEVENT
DTSTART;TZID=America/Toronto:20260816T110000
DTEND;TZID=America/Toronto:20260816T130000
DTSTAMP:20260421T185327
CREATED:20260306T135334Z
LAST-MODIFIED:20260306T141832Z
UID:816-1786878000-1786885200@bethelhispana.ca
SUMMARY:Servicio Dominical
DESCRIPTION:Servicio de adoración\, toda la congregación es bienvenida. Escuela Dominical para niños.
URL:https://bethelhispana.ca/event/servicio-dominical-25/
LOCATION:Bethel Hispana\, 3657 Ponytrail Dr\, Mississauga\, Ontario\, L4X 1W5\, Canada
CATEGORIES:Church
ORGANIZER;CN="Bethel Hispana":MAILTO:contacto@bethelhispana.ca
END:VEVENT
BEGIN:VEVENT
DTSTART;TZID=America/Toronto:20260819T193000
DTEND;TZID=America/Toronto:20260819T203000
DTSTAMP:20260421T185327
CREATED:20260306T141832Z
LAST-MODIFIED:20260306T141832Z
UID:948-1787167800-1787171400@bethelhispana.ca
SUMMARY:Servicio de Oración via ZOOM
DESCRIPTION:Servicio de Oración via ZOOM
URL:https://bethelhispana.ca/event/servicio-de-oracion-via-zoom-25/
LOCATION:Bethel Hispana\, 3657 Ponytrail Dr\, Mississauga\, Ontario\, L4X 1W5\, Canada
CATEGORIES:Church
ORGANIZER;CN="Bethel Hispana":MAILTO:contacto@bethelhispana.ca
END:VEVENT
BEGIN:VEVENT
DTSTART;TZID=America/Toronto:20260821T193000
DTEND;TZID=America/Toronto:20260821T210000
DTSTAMP:20260421T185327
CREATED:20260306T135334Z
LAST-MODIFIED:20260306T141832Z
UID:817-1787340600-1787346000@bethelhispana.ca
SUMMARY:Servicio de Caballeros
DESCRIPTION:Servicio congregacional dirigido por los caballeros\, toda la congregación es bienvenida.
URL:https://bethelhispana.ca/event/servicio-de-caballeros-6/
LOCATION:Bethel Hispana\, 3657 Ponytrail Dr\, Mississauga\, Ontario\, L4X 1W5\, Canada
CATEGORIES:Church
ORGANIZER;CN="Bethel Hispana":MAILTO:contacto@bethelhispana.ca
END:VEVENT
BEGIN:VEVENT
DTSTART;TZID=America/Toronto:20260823T110000
DTEND;TZID=America/Toronto:20260823T130000
DTSTAMP:20260421T185327
CREATED:20260306T135334Z
LAST-MODIFIED:20260306T141832Z
UID:818-1787482800-1787490000@bethelhispana.ca
SUMMARY:Servicio Dominical
DESCRIPTION:Servicio de adoración\, toda la congregación es bienvenida. Escuela Dominical para niños.
URL:https://bethelhispana.ca/event/servicio-dominical-26/
LOCATION:Bethel Hispana\, 3657 Ponytrail Dr\, Mississauga\, Ontario\, L4X 1W5\, Canada
CATEGORIES:Church
ORGANIZER;CN="Bethel Hispana":MAILTO:contacto@bethelhispana.ca
END:VEVENT
BEGIN:VEVENT
DTSTART;TZID=America/Toronto:20260826T193000
DTEND;TZID=America/Toronto:20260826T203000
DTSTAMP:20260421T185327
CREATED:20260306T141832Z
LAST-MODIFIED:20260306T141832Z
UID:951-1787772600-1787776200@bethelhispana.ca
SUMMARY:Servicio de Oración via ZOOM
DESCRIPTION:Servicio de Oración via ZOOM
URL:https://bethelhispana.ca/event/servicio-de-oracion-via-zoom-26/
LOCATION:Bethel Hispana\, 3657 Ponytrail Dr\, Mississauga\, Ontario\, L4X 1W5\, Canada
CATEGORIES:Church
ORGANIZER;CN="Bethel Hispana":MAILTO:contacto@bethelhispana.ca
END:VEVENT
BEGIN:VEVENT
DTSTART;TZID=America/Toronto:20260828T193000
DTEND;TZID=America/Toronto:20260828T210000
DTSTAMP:20260421T185327
CREATED:20260306T135334Z
LAST-MODIFIED:20260306T135334Z
UID:819-1787945400-1787950800@bethelhispana.ca
SUMMARY:Estudio Bíblico
DESCRIPTION:
URL:https://bethelhispana.ca/event/estudio-biblico-6/
LOCATION:Ontario
CATEGORIES:Church
END:VEVENT
BEGIN:VEVENT
DTSTART;TZID=America/Toronto:20260828T193000
DTEND;TZID=America/Toronto:20260828T210000
DTSTAMP:20260421T185327
CREATED:20260306T141844Z
LAST-MODIFIED:20260306T141844Z
UID:952-1787945400-1787950800@bethelhispana.ca
SUMMARY:Estudio BÃ­blico
DESCRIPTION:Estudio Bíblico para toda la congregación
URL:https://bethelhispana.ca/event/estudio-bablico-6/
LOCATION:Bethel Hispana\, 3657 Ponytrail Dr\, Mississauga\, Ontario\, L4X 1W5\, Canada
CATEGORIES:Church
ORGANIZER;CN="Bethel Hispana":MAILTO:contacto@bethelhispana.ca
END:VEVENT
BEGIN:VEVENT
DTSTART;TZID=America/Toronto:20260830T110000
DTEND;TZID=America/Toronto:20260830T130000
DTSTAMP:20260421T185327
CREATED:20260306T135354Z
LAST-MODIFIED:20260306T141844Z
UID:820-1788087600-1788094800@bethelhispana.ca
SUMMARY:Servicio Dominical
DESCRIPTION:Servicio de adoración\, toda la congregación es bienvenida. Escuela Dominical para niños.
URL:https://bethelhispana.ca/event/servicio-dominical-27/
LOCATION:Bethel Hispana\, 3657 Ponytrail Dr\, Mississauga\, Ontario\, L4X 1W5\, Canada
CATEGORIES:Church
ORGANIZER;CN="Bethel Hispana":MAILTO:contacto@bethelhispana.ca
END:VEVENT
BEGIN:VEVENT
DTSTART;TZID=America/Toronto:20260902T193000
DTEND;TZID=America/Toronto:20260902T203000
DTSTAMP:20260421T185327
CREATED:20260306T141845Z
LAST-MODIFIED:20260306T141845Z
UID:954-1788377400-1788381000@bethelhispana.ca
SUMMARY:Servicio de Oración via ZOOM
DESCRIPTION:Servicio de Oración via ZOOM
URL:https://bethelhispana.ca/event/servicio-de-oracion-via-zoom-27/
LOCATION:Bethel Hispana\, 3657 Ponytrail Dr\, Mississauga\, Ontario\, L4X 1W5\, Canada
CATEGORIES:Church
ORGANIZER;CN="Bethel Hispana":MAILTO:contacto@bethelhispana.ca
END:VEVENT
BEGIN:VEVENT
DTSTART;TZID=America/Toronto:20260904T193000
DTEND;TZID=America/Toronto:20260904T210000
DTSTAMP:20260421T185327
CREATED:20260306T135354Z
LAST-MODIFIED:20260306T141845Z
UID:821-1788550200-1788555600@bethelhispana.ca
SUMMARY:Servicio de Mujeres
DESCRIPTION:Servicio congregacional dirigido por las mujeres\, toda la congregación es bienvenida.
URL:https://bethelhispana.ca/event/servicio-de-mujeres-7/
LOCATION:Bethel Hispana\, 3657 Ponytrail Dr\, Mississauga\, Ontario\, L4X 1W5\, Canada
CATEGORIES:Church
ORGANIZER;CN="Bethel Hispana":MAILTO:contacto@bethelhispana.ca
END:VEVENT
BEGIN:VEVENT
DTSTART;TZID=America/Toronto:20260906T110000
DTEND;TZID=America/Toronto:20260906T130000
DTSTAMP:20260421T185327
CREATED:20260306T135354Z
LAST-MODIFIED:20260306T141845Z
UID:822-1788692400-1788699600@bethelhispana.ca
SUMMARY:Servicio Dominical
DESCRIPTION:Servicio de adoración\, toda la congregación es bienvenida. Escuela Dominical para niños.
URL:https://bethelhispana.ca/event/servicio-dominical-28/
LOCATION:Bethel Hispana\, 3657 Ponytrail Dr\, Mississauga\, Ontario\, L4X 1W5\, Canada
CATEGORIES:Church
ORGANIZER;CN="Bethel Hispana":MAILTO:contacto@bethelhispana.ca
END:VEVENT
BEGIN:VEVENT
DTSTART;TZID=America/Toronto:20260909T193000
DTEND;TZID=America/Toronto:20260909T203000
DTSTAMP:20260421T185327
CREATED:20260306T141847Z
LAST-MODIFIED:20260306T141847Z
UID:957-1788982200-1788985800@bethelhispana.ca
SUMMARY:Servicio de Oración via ZOOM
DESCRIPTION:Servicio de Oración via ZOOM
URL:https://bethelhispana.ca/event/servicio-de-oracion-via-zoom-28/
LOCATION:Bethel Hispana\, 3657 Ponytrail Dr\, Mississauga\, Ontario\, L4X 1W5\, Canada
CATEGORIES:Church
ORGANIZER;CN="Bethel Hispana":MAILTO:contacto@bethelhispana.ca
END:VEVENT
BEGIN:VEVENT
DTSTART;TZID=America/Toronto:20260911T193000
DTEND;TZID=America/Toronto:20260911T210000
DTSTAMP:20260421T185327
CREATED:20260306T135354Z
LAST-MODIFIED:20260306T141848Z
UID:823-1789155000-1789160400@bethelhispana.ca
SUMMARY:Servicio de Misiones
DESCRIPTION:Servicio congregacional dirigido por el ministerio de misiones\, toda la congregación es bienvenida.
URL:https://bethelhispana.ca/event/servicio-de-misiones-7/
LOCATION:Bethel Hispana\, 3657 Ponytrail Dr\, Mississauga\, Ontario\, L4X 1W5\, Canada
CATEGORIES:Church
ORGANIZER;CN="Bethel Hispana":MAILTO:contacto@bethelhispana.ca
END:VEVENT
BEGIN:VEVENT
DTSTART;TZID=America/Toronto:20260913T110000
DTEND;TZID=America/Toronto:20260913T130000
DTSTAMP:20260421T185327
CREATED:20260306T135354Z
LAST-MODIFIED:20260306T141848Z
UID:824-1789297200-1789304400@bethelhispana.ca
SUMMARY:Servicio Dominical
DESCRIPTION:Servicio de adoración\, toda la congregación es bienvenida. Escuela Dominical para niños.
URL:https://bethelhispana.ca/event/servicio-dominical-29/
LOCATION:Bethel Hispana\, 3657 Ponytrail Dr\, Mississauga\, Ontario\, L4X 1W5\, Canada
CATEGORIES:Church
ORGANIZER;CN="Bethel Hispana":MAILTO:contacto@bethelhispana.ca
END:VEVENT
BEGIN:VEVENT
DTSTART;TZID=America/Toronto:20260916T193000
DTEND;TZID=America/Toronto:20260916T203000
DTSTAMP:20260421T185327
CREATED:20260306T141848Z
LAST-MODIFIED:20260306T141848Z
UID:960-1789587000-1789590600@bethelhispana.ca
SUMMARY:Servicio de Oración via ZOOM
DESCRIPTION:Servicio de Oración via ZOOM
URL:https://bethelhispana.ca/event/servicio-de-oracion-via-zoom-29/
LOCATION:Bethel Hispana\, 3657 Ponytrail Dr\, Mississauga\, Ontario\, L4X 1W5\, Canada
CATEGORIES:Church
ORGANIZER;CN="Bethel Hispana":MAILTO:contacto@bethelhispana.ca
END:VEVENT
BEGIN:VEVENT
DTSTART;TZID=America/Toronto:20260918T193000
DTEND;TZID=America/Toronto:20260918T210000
DTSTAMP:20260421T185327
CREATED:20260306T135409Z
LAST-MODIFIED:20260306T141848Z
UID:825-1789759800-1789765200@bethelhispana.ca
SUMMARY:Servicio de Caballeros
DESCRIPTION:Servicio congregacional dirigido por los caballeros\, toda la congregación es bienvenida.
URL:https://bethelhispana.ca/event/servicio-de-caballeros-7/
LOCATION:Bethel Hispana\, 3657 Ponytrail Dr\, Mississauga\, Ontario\, L4X 1W5\, Canada
CATEGORIES:Church
ORGANIZER;CN="Bethel Hispana":MAILTO:contacto@bethelhispana.ca
END:VEVENT
BEGIN:VEVENT
DTSTART;TZID=America/Toronto:20260920T110000
DTEND;TZID=America/Toronto:20260920T130000
DTSTAMP:20260421T185327
CREATED:20260306T135409Z
LAST-MODIFIED:20260306T141900Z
UID:826-1789902000-1789909200@bethelhispana.ca
SUMMARY:Servicio Dominical
DESCRIPTION:Servicio de adoración\, toda la congregación es bienvenida. Escuela Dominical para niños.
URL:https://bethelhispana.ca/event/servicio-dominical-30/
LOCATION:Bethel Hispana\, 3657 Ponytrail Dr\, Mississauga\, Ontario\, L4X 1W5\, Canada
CATEGORIES:Church
ORGANIZER;CN="Bethel Hispana":MAILTO:contacto@bethelhispana.ca
END:VEVENT
BEGIN:VEVENT
DTSTART;TZID=America/Toronto:20260923T193000
DTEND;TZID=America/Toronto:20260923T203000
DTSTAMP:20260421T185327
CREATED:20260306T141900Z
LAST-MODIFIED:20260306T141900Z
UID:963-1790191800-1790195400@bethelhispana.ca
SUMMARY:Servicio de Oración via ZOOM
DESCRIPTION:Servicio de Oración via ZOOM
URL:https://bethelhispana.ca/event/servicio-de-oracion-via-zoom-30/
LOCATION:Bethel Hispana\, 3657 Ponytrail Dr\, Mississauga\, Ontario\, L4X 1W5\, Canada
CATEGORIES:Church
ORGANIZER;CN="Bethel Hispana":MAILTO:contacto@bethelhispana.ca
END:VEVENT
BEGIN:VEVENT
DTSTART;TZID=America/Toronto:20260925T193000
DTEND;TZID=America/Toronto:20260925T210000
DTSTAMP:20260421T185327
CREATED:20260306T135409Z
LAST-MODIFIED:20260306T135409Z
UID:827-1790364600-1790370000@bethelhispana.ca
SUMMARY:Estudio Bíblico
DESCRIPTION:
URL:https://bethelhispana.ca/event/estudio-biblico-7/
LOCATION:Ontario
CATEGORIES:Church
END:VEVENT
BEGIN:VEVENT
DTSTART;TZID=America/Toronto:20260925T193000
DTEND;TZID=America/Toronto:20260925T210000
DTSTAMP:20260421T185327
CREATED:20260306T141900Z
LAST-MODIFIED:20260306T141900Z
UID:964-1790364600-1790370000@bethelhispana.ca
SUMMARY:Estudio BÃ­blico
DESCRIPTION:Estudio Bíblico para toda la congregación
URL:https://bethelhispana.ca/event/estudio-bablico-7/
LOCATION:Bethel Hispana\, 3657 Ponytrail Dr\, Mississauga\, Ontario\, L4X 1W5\, Canada
CATEGORIES:Church
ORGANIZER;CN="Bethel Hispana":MAILTO:contacto@bethelhispana.ca
END:VEVENT
BEGIN:VEVENT
DTSTART;TZID=America/Toronto:20260927T110000
DTEND;TZID=America/Toronto:20260927T130000
DTSTAMP:20260421T185327
CREATED:20260306T135409Z
LAST-MODIFIED:20260306T141900Z
UID:828-1790506800-1790514000@bethelhispana.ca
SUMMARY:Servicio Dominical
DESCRIPTION:Servicio de adoración\, toda la congregación es bienvenida. Escuela Dominical para niños.
URL:https://bethelhispana.ca/event/servicio-dominical-31/
LOCATION:Bethel Hispana\, 3657 Ponytrail Dr\, Mississauga\, Ontario\, L4X 1W5\, Canada
CATEGORIES:Church
ORGANIZER;CN="Bethel Hispana":MAILTO:contacto@bethelhispana.ca
END:VEVENT
BEGIN:VEVENT
DTSTART;TZID=America/Toronto:20260930T193000
DTEND;TZID=America/Toronto:20260930T203000
DTSTAMP:20260421T185327
CREATED:20260306T141900Z
LAST-MODIFIED:20260306T141900Z
UID:966-1790796600-1790800200@bethelhispana.ca
SUMMARY:Servicio de Oración via ZOOM
DESCRIPTION:Servicio de Oración via ZOOM
URL:https://bethelhispana.ca/event/servicio-de-oracion-via-zoom-31/
LOCATION:Bethel Hispana\, 3657 Ponytrail Dr\, Mississauga\, Ontario\, L4X 1W5\, Canada
CATEGORIES:Church
ORGANIZER;CN="Bethel Hispana":MAILTO:contacto@bethelhispana.ca
END:VEVENT
BEGIN:VEVENT
DTSTART;TZID=America/Toronto:20261002T193000
DTEND;TZID=America/Toronto:20261002T210000
DTSTAMP:20260421T185327
CREATED:20260306T135409Z
LAST-MODIFIED:20260306T141903Z
UID:829-1790969400-1790974800@bethelhispana.ca
SUMMARY:Servicio de Mujeres
DESCRIPTION:Servicio congregacional dirigido por las mujeres\, toda la congregación es bienvenida.
URL:https://bethelhispana.ca/event/servicio-de-mujeres-8/
LOCATION:Bethel Hispana\, 3657 Ponytrail Dr\, Mississauga\, Ontario\, L4X 1W5\, Canada
CATEGORIES:Church
ORGANIZER;CN="Bethel Hispana":MAILTO:contacto@bethelhispana.ca
END:VEVENT
BEGIN:VEVENT
DTSTART;TZID=America/Toronto:20261004T110000
DTEND;TZID=America/Toronto:20261004T130000
DTSTAMP:20260421T185327
CREATED:20260306T135424Z
LAST-MODIFIED:20260306T141903Z
UID:830-1791111600-1791118800@bethelhispana.ca
SUMMARY:Servicio Dominical
DESCRIPTION:Servicio de adoración\, toda la congregación es bienvenida. Escuela Dominical para niños.
URL:https://bethelhispana.ca/event/servicio-dominical-32/
LOCATION:Bethel Hispana\, 3657 Ponytrail Dr\, Mississauga\, Ontario\, L4X 1W5\, Canada
CATEGORIES:Church
ORGANIZER;CN="Bethel Hispana":MAILTO:contacto@bethelhispana.ca
END:VEVENT
BEGIN:VEVENT
DTSTART;TZID=America/Toronto:20261007T193000
DTEND;TZID=America/Toronto:20261007T203000
DTSTAMP:20260421T185327
CREATED:20260306T141903Z
LAST-MODIFIED:20260306T141903Z
UID:969-1791401400-1791405000@bethelhispana.ca
SUMMARY:Servicio de Oración via ZOOM
DESCRIPTION:Servicio de Oración via ZOOM
URL:https://bethelhispana.ca/event/servicio-de-oracion-via-zoom-32/
LOCATION:Bethel Hispana\, 3657 Ponytrail Dr\, Mississauga\, Ontario\, L4X 1W5\, Canada
CATEGORIES:Church
ORGANIZER;CN="Bethel Hispana":MAILTO:contacto@bethelhispana.ca
END:VEVENT
BEGIN:VEVENT
DTSTART;TZID=America/Toronto:20261009T193000
DTEND;TZID=America/Toronto:20261009T210000
DTSTAMP:20260421T185327
CREATED:20260306T135425Z
LAST-MODIFIED:20260306T141903Z
UID:831-1791574200-1791579600@bethelhispana.ca
SUMMARY:Servicio de Misiones
DESCRIPTION:Servicio congregacional dirigido por el ministerio de misiones\, toda la congregación es bienvenida.
URL:https://bethelhispana.ca/event/servicio-de-misiones-8/
LOCATION:Bethel Hispana\, 3657 Ponytrail Dr\, Mississauga\, Ontario\, L4X 1W5\, Canada
CATEGORIES:Church
ORGANIZER;CN="Bethel Hispana":MAILTO:contacto@bethelhispana.ca
END:VEVENT
BEGIN:VEVENT
DTSTART;TZID=America/Toronto:20261011T110000
DTEND;TZID=America/Toronto:20261011T130000
DTSTAMP:20260421T185327
CREATED:20260306T135425Z
LAST-MODIFIED:20260306T141903Z
UID:832-1791716400-1791723600@bethelhispana.ca
SUMMARY:Servicio Dominical
DESCRIPTION:Servicio de adoración\, toda la congregación es bienvenida. Escuela Dominical para niños.
URL:https://bethelhispana.ca/event/servicio-dominical-33/
LOCATION:Bethel Hispana\, 3657 Ponytrail Dr\, Mississauga\, Ontario\, L4X 1W5\, Canada
CATEGORIES:Church
ORGANIZER;CN="Bethel Hispana":MAILTO:contacto@bethelhispana.ca
END:VEVENT
BEGIN:VEVENT
DTSTART;TZID=America/Toronto:20261014T193000
DTEND;TZID=America/Toronto:20261014T203000
DTSTAMP:20260421T185327
CREATED:20260306T141913Z
LAST-MODIFIED:20260306T141913Z
UID:972-1792006200-1792009800@bethelhispana.ca
SUMMARY:Servicio de Oración via ZOOM
DESCRIPTION:Servicio de Oración via ZOOM
URL:https://bethelhispana.ca/event/servicio-de-oracion-via-zoom-33/
LOCATION:Bethel Hispana\, 3657 Ponytrail Dr\, Mississauga\, Ontario\, L4X 1W5\, Canada
CATEGORIES:Church
ORGANIZER;CN="Bethel Hispana":MAILTO:contacto@bethelhispana.ca
END:VEVENT
END:VCALENDAR